BEGIN:VCALENDAR
VERSION:2.0
PRODID:-//Prescott&#039;s 4th Friday Art Walk - ECPv6.15.20//NONSGML v1.0//EN
CALSCALE:GREGORIAN
METHOD:PUBLISH
X-ORIGINAL-URL:https://www.artthe4th.com
X-WR-CALDESC:Events for Prescott&#039;s 4th Friday Art Walk
REFRESH-INTERVAL;VALUE=DURATION:PT1H
X-Robots-Tag:noindex
X-PUBLISHED-TTL:PT1H
BEGIN:VTIMEZONE
TZID:UTC
BEGIN:STANDARD
TZOFFSETFROM:+0000
TZOFFSETTO:+0000
TZNAME:UTC
DTSTART:20250101T000000
END:STANDARD
END:VTIMEZONE
BEGIN:VEVENT
DTSTART;TZID=UTC:20260424T170000
DTEND;TZID=UTC:20260521T180000
DTSTAMP:20260421T151133
CREATED:20260421T141645Z
LAST-MODIFIED:20260421T141645Z
UID:8047-1777050000-1779386400@www.artthe4th.com
SUMMARY:Jenny Sferruzza - "Echoes of the Soul"
DESCRIPTION:Jenny Sferruzza creates layered digital portrait collages born from the high desert of Prescott\, Arizona — where wildflowers\, spirit animals\, and the quiet language of nature weave together into works that feel both ancient and alive. Each piece is an offering: an invitation to pause\, to feel\, and to remember our connection to something greater than ourselves.
URL:https://www.artthe4th.com/event/jenny-sferruzza-echoes-of-the-soul/
LOCATION:Arts Prescott Cooperative Gallery\, 134 S. Montezuma Street\, Prescott\, AZ\, 86303\, United States
END:VEVENT
BEGIN:VEVENT
DTSTART;TZID=UTC:20260424T170000
DTEND;TZID=UTC:20260521T180000
DTSTAMP:20260421T151133
CREATED:20260421T141753Z
LAST-MODIFIED:20260421T141753Z
UID:8051-1777050000-1779386400@www.artthe4th.com
SUMMARY:Jenny Sferruzza - "Echoes of the Soul"
DESCRIPTION:Jenny Sferruzza creates layered digital portrait collages born from the high desert of Prescott\, Arizona — where wildflowers\, spirit animals\, and the quiet language of nature weave together into works that feel both ancient and alive. Each piece is an offering: an invitation to pause\, to feel\, and to remember our connection to something greater than ourselves.
URL:https://www.artthe4th.com/event/jenny-sferruzza-echoes-of-the-soul-2/
LOCATION:Arts Prescott Cooperative Gallery\, 134 S. Montezuma Street\, Prescott\, AZ\, 86303\, United States
END:VEVENT
BEGIN:VEVENT
DTSTART;TZID=UTC:20260424T170000
DTEND;TZID=UTC:20260521T180000
DTSTAMP:20260421T151133
CREATED:20260421T142132Z
LAST-MODIFIED:20260421T142132Z
UID:8055-1777050000-1779386400@www.artthe4th.com
SUMMARY:Jenny Sferruzza - "Echoes of the Soul"
DESCRIPTION:Jenny Sferruzza creates layered digital portrait collages born from the high desert of Prescott\, Arizona — where wildflowers\, spirit animals\, and the quiet language of nature weave together into works that feel both ancient and alive. Each piece is an offering: an invitation to pause\, to feel\, and to remember our connection to something greater than ourselves.
URL:https://www.artthe4th.com/event/jenny-sferruzza-echoes-of-the-soul-3/
LOCATION:Arts Prescott Cooperative Gallery\, 134 S. Montezuma Street\, Prescott\, AZ\, 86303\, United States
ATTACH;FMTTYPE=image/jpeg:https://www.artthe4th.com/wp-content/uploads/2026/04/Sferruzza.jpg
END:VEVENT
END:VCALENDAR